BEGIN:VCALENDAR
VERSION:2.0
PRODID:-//Ludlow Assembly Rooms - ECPv6.15.20//NONSGML v1.0//EN
CALSCALE:GREGORIAN
METHOD:PUBLISH
X-WR-CALNAME:Ludlow Assembly Rooms
X-ORIGINAL-URL:https://ludlowassemblyrooms.co.uk
X-WR-CALDESC:Events for Ludlow Assembly Rooms
REFRESH-INTERVAL;VALUE=DURATION:PT1H
X-Robots-Tag:noindex
X-PUBLISHED-TTL:PT1H
BEGIN:VTIMEZONE
TZID:Europe/London
BEGIN:DAYLIGHT
TZOFFSETFROM:+0000
TZOFFSETTO:+0100
TZNAME:BST
DTSTART:20250330T010000
END:DAYLIGHT
BEGIN:STANDARD
TZOFFSETFROM:+0100
TZOFFSETTO:+0000
TZNAME:GMT
DTSTART:20251026T010000
END:STANDARD
BEGIN:DAYLIGHT
TZOFFSETFROM:+0000
TZOFFSETTO:+0100
TZNAME:BST
DTSTART:20260329T010000
END:DAYLIGHT
BEGIN:STANDARD
TZOFFSETFROM:+0100
TZOFFSETTO:+0000
TZNAME:GMT
DTSTART:20261025T010000
END:STANDARD
BEGIN:DAYLIGHT
TZOFFSETFROM:+0000
TZOFFSETTO:+0100
TZNAME:BST
DTSTART:20270328T010000
END:DAYLIGHT
BEGIN:STANDARD
TZOFFSETFROM:+0100
TZOFFSETTO:+0000
TZNAME:GMT
DTSTART:20271031T010000
END:STANDARD
END:VTIMEZONE
BEGIN:VEVENT
DTSTART;TZID=Europe/London:20260428T133000
DTEND;TZID=Europe/London:20260428T150000
DTSTAMP:20260424T135421
CREATED:20260424T094555Z
LAST-MODIFIED:20260424T103046Z
UID:10001357-1777383000-1777388400@ludlowassemblyrooms.co.uk
SUMMARY:Love 2 Sing
DESCRIPTION:This is not a choir but a singing group to benefit those living with memory issues.  \n\n\n\nWe know that singing and music can improve brain activity and is often beneficial and therapeutic for those dealing with memory issues. Whether you are\, or you are a carer\, or just someone who loves a bit of social contact for an hour or so\, come along! This is a growing group of friendly people who enjoy a cuppa\, chat and then singing together with Hayley. We cover some old favourites\, Beatles\, Elvis\, some show tunes – it’s just great fun singing together.  \n\n\n\nGenerously supported by Ludlow Hospital League of Friends.  \n\n\n\n2026 Dates below. \n\n\n\nOscars on Level 2 at Ludlow Assembly Rooms \n\n\n\n 2pm for tea/coffee\, 2.30pm-3.30pm singing \n\n\n\n If you have any queries\, please email us leagueludlow@gmail.com
URL:https://ludlowassemblyrooms.co.uk/event/love-2-sing/2026-04-28/1/
LOCATION:Oscars\, Assembly Rooms\, Castle St\, Ludlow\, Shropshire\, SY8 1AZ\, United Kingdom
ATTACH;FMTTYPE=image/jpeg:https://ludlowassemblyrooms.co.uk/wp-content/uploads/2026/04/Love-2-Sing.jpg
END:VEVENT
BEGIN:VEVENT
DTSTART;TZID=Europe/London:20260428T143000
DTEND;TZID=Europe/London:20260428T153000
DTSTAMP:20260424T135421
CREATED:20260424T094555Z
LAST-MODIFIED:20260424T103046Z
UID:10001349-1777386600-1777390200@ludlowassemblyrooms.co.uk
SUMMARY:Love 2 Sing
DESCRIPTION:This is not a choir but a singing group to benefit those living with memory issues.  \n\n\n\nWe know that singing and music can improve brain activity and is often beneficial and therapeutic for those dealing with memory issues. Whether you are\, or you are a carer\, or just someone who loves a bit of social contact for an hour or so\, come along! This is a growing group of friendly people who enjoy a cuppa\, chat and then singing together with Hayley. We cover some old favourites\, Beatles\, Elvis\, some show tunes – it’s just great fun singing together.  \n\n\n\nGenerously supported by Ludlow Hospital League of Friends.  \n\n\n\n2026 Dates below. \n\n\n\nOscars on Level 2 at Ludlow Assembly Rooms \n\n\n\n 2pm for tea/coffee\, 2.30pm-3.30pm singing \n\n\n\n If you have any queries\, please email us leagueludlow@gmail.com
URL:https://ludlowassemblyrooms.co.uk/event/love-2-sing/2026-04-28/2/
LOCATION:Oscars\, Assembly Rooms\, Castle St\, Ludlow\, Shropshire\, SY8 1AZ\, United Kingdom
ATTACH;FMTTYPE=image/jpeg:https://ludlowassemblyrooms.co.uk/wp-content/uploads/2026/04/Love-2-Sing.jpg
END:VEVENT
BEGIN:VEVENT
DTSTART;TZID=Europe/London:20260526T143000
DTEND;TZID=Europe/London:20260526T153000
DTSTAMP:20260424T135421
CREATED:20260424T094555Z
LAST-MODIFIED:20260424T103046Z
UID:10001350-1779805800-1779809400@ludlowassemblyrooms.co.uk
SUMMARY:Love 2 Sing
DESCRIPTION:This is not a choir but a singing group to benefit those living with memory issues.  \n\n\n\nWe know that singing and music can improve brain activity and is often beneficial and therapeutic for those dealing with memory issues. Whether you are\, or you are a carer\, or just someone who loves a bit of social contact for an hour or so\, come along! This is a growing group of friendly people who enjoy a cuppa\, chat and then singing together with Hayley. We cover some old favourites\, Beatles\, Elvis\, some show tunes – it’s just great fun singing together.  \n\n\n\nGenerously supported by Ludlow Hospital League of Friends.  \n\n\n\n2026 Dates below. \n\n\n\nOscars on Level 2 at Ludlow Assembly Rooms \n\n\n\n 2pm for tea/coffee\, 2.30pm-3.30pm singing \n\n\n\n If you have any queries\, please email us leagueludlow@gmail.com
URL:https://ludlowassemblyrooms.co.uk/event/love-2-sing/2026-05-26/
LOCATION:Oscars\, Assembly Rooms\, Castle St\, Ludlow\, Shropshire\, SY8 1AZ\, United Kingdom
ATTACH;FMTTYPE=image/jpeg:https://ludlowassemblyrooms.co.uk/wp-content/uploads/2026/04/Love-2-Sing.jpg
END:VEVENT
BEGIN:VEVENT
DTSTART;TZID=Europe/London:20260623T143000
DTEND;TZID=Europe/London:20260623T153000
DTSTAMP:20260424T135421
CREATED:20260424T094555Z
LAST-MODIFIED:20260424T103046Z
UID:10001351-1782225000-1782228600@ludlowassemblyrooms.co.uk
SUMMARY:Love 2 Sing
DESCRIPTION:This is not a choir but a singing group to benefit those living with memory issues.  \n\n\n\nWe know that singing and music can improve brain activity and is often beneficial and therapeutic for those dealing with memory issues. Whether you are\, or you are a carer\, or just someone who loves a bit of social contact for an hour or so\, come along! This is a growing group of friendly people who enjoy a cuppa\, chat and then singing together with Hayley. We cover some old favourites\, Beatles\, Elvis\, some show tunes – it’s just great fun singing together.  \n\n\n\nGenerously supported by Ludlow Hospital League of Friends.  \n\n\n\n2026 Dates below. \n\n\n\nOscars on Level 2 at Ludlow Assembly Rooms \n\n\n\n 2pm for tea/coffee\, 2.30pm-3.30pm singing \n\n\n\n If you have any queries\, please email us leagueludlow@gmail.com
URL:https://ludlowassemblyrooms.co.uk/event/love-2-sing/2026-06-23/
LOCATION:Oscars\, Assembly Rooms\, Castle St\, Ludlow\, Shropshire\, SY8 1AZ\, United Kingdom
ATTACH;FMTTYPE=image/jpeg:https://ludlowassemblyrooms.co.uk/wp-content/uploads/2026/04/Love-2-Sing.jpg
END:VEVENT
BEGIN:VEVENT
DTSTART;TZID=Europe/London:20260728T143000
DTEND;TZID=Europe/London:20260728T153000
DTSTAMP:20260424T135421
CREATED:20260424T094555Z
LAST-MODIFIED:20260424T103046Z
UID:10001352-1785249000-1785252600@ludlowassemblyrooms.co.uk
SUMMARY:Love 2 Sing
DESCRIPTION:This is not a choir but a singing group to benefit those living with memory issues.  \n\n\n\nWe know that singing and music can improve brain activity and is often beneficial and therapeutic for those dealing with memory issues. Whether you are\, or you are a carer\, or just someone who loves a bit of social contact for an hour or so\, come along! This is a growing group of friendly people who enjoy a cuppa\, chat and then singing together with Hayley. We cover some old favourites\, Beatles\, Elvis\, some show tunes – it’s just great fun singing together.  \n\n\n\nGenerously supported by Ludlow Hospital League of Friends.  \n\n\n\n2026 Dates below. \n\n\n\nOscars on Level 2 at Ludlow Assembly Rooms \n\n\n\n 2pm for tea/coffee\, 2.30pm-3.30pm singing \n\n\n\n If you have any queries\, please email us leagueludlow@gmail.com
URL:https://ludlowassemblyrooms.co.uk/event/love-2-sing/2026-07-28/
LOCATION:Oscars\, Assembly Rooms\, Castle St\, Ludlow\, Shropshire\, SY8 1AZ\, United Kingdom
ATTACH;FMTTYPE=image/jpeg:https://ludlowassemblyrooms.co.uk/wp-content/uploads/2026/04/Love-2-Sing.jpg
END:VEVENT
BEGIN:VEVENT
DTSTART;TZID=Europe/London:20260825T143000
DTEND;TZID=Europe/London:20260825T153000
DTSTAMP:20260424T135421
CREATED:20260424T094555Z
LAST-MODIFIED:20260424T103046Z
UID:10001353-1787668200-1787671800@ludlowassemblyrooms.co.uk
SUMMARY:Love 2 Sing
DESCRIPTION:This is not a choir but a singing group to benefit those living with memory issues.  \n\n\n\nWe know that singing and music can improve brain activity and is often beneficial and therapeutic for those dealing with memory issues. Whether you are\, or you are a carer\, or just someone who loves a bit of social contact for an hour or so\, come along! This is a growing group of friendly people who enjoy a cuppa\, chat and then singing together with Hayley. We cover some old favourites\, Beatles\, Elvis\, some show tunes – it’s just great fun singing together.  \n\n\n\nGenerously supported by Ludlow Hospital League of Friends.  \n\n\n\n2026 Dates below. \n\n\n\nOscars on Level 2 at Ludlow Assembly Rooms \n\n\n\n 2pm for tea/coffee\, 2.30pm-3.30pm singing \n\n\n\n If you have any queries\, please email us leagueludlow@gmail.com
URL:https://ludlowassemblyrooms.co.uk/event/love-2-sing/2026-08-25/
LOCATION:Oscars\, Assembly Rooms\, Castle St\, Ludlow\, Shropshire\, SY8 1AZ\, United Kingdom
ATTACH;FMTTYPE=image/jpeg:https://ludlowassemblyrooms.co.uk/wp-content/uploads/2026/04/Love-2-Sing.jpg
END:VEVENT
BEGIN:VEVENT
DTSTART;TZID=Europe/London:20260922T143000
DTEND;TZID=Europe/London:20260922T153000
DTSTAMP:20260424T135421
CREATED:20260424T094555Z
LAST-MODIFIED:20260424T103046Z
UID:10001354-1790087400-1790091000@ludlowassemblyrooms.co.uk
SUMMARY:Love 2 Sing
DESCRIPTION:This is not a choir but a singing group to benefit those living with memory issues.  \n\n\n\nWe know that singing and music can improve brain activity and is often beneficial and therapeutic for those dealing with memory issues. Whether you are\, or you are a carer\, or just someone who loves a bit of social contact for an hour or so\, come along! This is a growing group of friendly people who enjoy a cuppa\, chat and then singing together with Hayley. We cover some old favourites\, Beatles\, Elvis\, some show tunes – it’s just great fun singing together.  \n\n\n\nGenerously supported by Ludlow Hospital League of Friends.  \n\n\n\n2026 Dates below. \n\n\n\nOscars on Level 2 at Ludlow Assembly Rooms \n\n\n\n 2pm for tea/coffee\, 2.30pm-3.30pm singing \n\n\n\n If you have any queries\, please email us leagueludlow@gmail.com
URL:https://ludlowassemblyrooms.co.uk/event/love-2-sing/2026-09-22/
LOCATION:Oscars\, Assembly Rooms\, Castle St\, Ludlow\, Shropshire\, SY8 1AZ\, United Kingdom
ATTACH;FMTTYPE=image/jpeg:https://ludlowassemblyrooms.co.uk/wp-content/uploads/2026/04/Love-2-Sing.jpg
END:VEVENT
BEGIN:VEVENT
DTSTART;TZID=Europe/London:20261027T143000
DTEND;TZID=Europe/London:20261027T153000
DTSTAMP:20260424T135421
CREATED:20260424T094555Z
LAST-MODIFIED:20260424T103046Z
UID:10001355-1793111400-1793115000@ludlowassemblyrooms.co.uk
SUMMARY:Love 2 Sing
DESCRIPTION:This is not a choir but a singing group to benefit those living with memory issues.  \n\n\n\nWe know that singing and music can improve brain activity and is often beneficial and therapeutic for those dealing with memory issues. Whether you are\, or you are a carer\, or just someone who loves a bit of social contact for an hour or so\, come along! This is a growing group of friendly people who enjoy a cuppa\, chat and then singing together with Hayley. We cover some old favourites\, Beatles\, Elvis\, some show tunes – it’s just great fun singing together.  \n\n\n\nGenerously supported by Ludlow Hospital League of Friends.  \n\n\n\n2026 Dates below. \n\n\n\nOscars on Level 2 at Ludlow Assembly Rooms \n\n\n\n 2pm for tea/coffee\, 2.30pm-3.30pm singing \n\n\n\n If you have any queries\, please email us leagueludlow@gmail.com
URL:https://ludlowassemblyrooms.co.uk/event/love-2-sing/2026-10-27/
LOCATION:Oscars\, Assembly Rooms\, Castle St\, Ludlow\, Shropshire\, SY8 1AZ\, United Kingdom
ATTACH;FMTTYPE=image/jpeg:https://ludlowassemblyrooms.co.uk/wp-content/uploads/2026/04/Love-2-Sing.jpg
END:VEVENT
BEGIN:VEVENT
DTSTART;TZID=Europe/London:20261124T143000
DTEND;TZID=Europe/London:20261124T153000
DTSTAMP:20260424T135421
CREATED:20260424T094555Z
LAST-MODIFIED:20260424T103046Z
UID:10001356-1795530600-1795534200@ludlowassemblyrooms.co.uk
SUMMARY:Love 2 Sing
DESCRIPTION:This is not a choir but a singing group to benefit those living with memory issues.  \n\n\n\nWe know that singing and music can improve brain activity and is often beneficial and therapeutic for those dealing with memory issues. Whether you are\, or you are a carer\, or just someone who loves a bit of social contact for an hour or so\, come along! This is a growing group of friendly people who enjoy a cuppa\, chat and then singing together with Hayley. We cover some old favourites\, Beatles\, Elvis\, some show tunes – it’s just great fun singing together.  \n\n\n\nGenerously supported by Ludlow Hospital League of Friends.  \n\n\n\n2026 Dates below. \n\n\n\nOscars on Level 2 at Ludlow Assembly Rooms \n\n\n\n 2pm for tea/coffee\, 2.30pm-3.30pm singing \n\n\n\n If you have any queries\, please email us leagueludlow@gmail.com
URL:https://ludlowassemblyrooms.co.uk/event/love-2-sing/2026-11-24/
LOCATION:Oscars\, Assembly Rooms\, Castle St\, Ludlow\, Shropshire\, SY8 1AZ\, United Kingdom
ATTACH;FMTTYPE=image/jpeg:https://ludlowassemblyrooms.co.uk/wp-content/uploads/2026/04/Love-2-Sing.jpg
END:VEVENT
END:VCALENDAR